Package: pageRank Version: 1.21.0 Command: /home/biocbuild/bbs-3.23-bioc/R/bin/R CMD INSTALL pageRank StartedAt: 2025-11-21 15:53:58 -0500 (Fri, 21 Nov 2025) EndedAt: 2025-11-21 15:54:34 -0500 (Fri, 21 Nov 2025) EllapsedTime: 36.8 seconds RetCode: 0 Status: OK