Package: pageRank Version: 1.21.0 Command: /Library/Frameworks/R.framework/Resources/bin/R CMD INSTALL pageRank StartedAt: 2025-11-14 15:27:33 -0500 (Fri, 14 Nov 2025) EndedAt: 2025-11-14 15:27:49 -0500 (Fri, 14 Nov 2025) EllapsedTime: 15.8 seconds RetCode: 0 Status: OK