Package: pageRank Version: 1.21.0 Command: rm -rf pageRank.buildbin-libdir && mkdir pageRank.buildbin-libdir && /Users/biocbuild/BBS/utils/build-universal.sh pageRank_1.21.0.tar.gz /Library/Frameworks/R.framework/Resources/bin/R pageRank.buildbin-libdir StartedAt: 2025-11-13 23:49:41 -0500 (Thu, 13 Nov 2025) EndedAt: 2025-11-13 23:50:00 -0500 (Thu, 13 Nov 2025) EllapsedTime: 18.4 seconds RetCode: 0 Status: OK PackageFile: pageRank_1.21.0.tgz PackageFileSize: 176.7 KiB