Package: packFinder Version: 1.23.0 Command: /home/biocbuild/bbs-3.23-bioc/R/bin/R CMD INSTALL packFinder StartedAt: 2025-11-13 15:15:32 -0500 (Thu, 13 Nov 2025) EndedAt: 2025-11-13 15:15:34 -0500 (Thu, 13 Nov 2025) EllapsedTime: 2.5 seconds RetCode: 0 Status: OK