Package: packFinder Version: 1.23.0 Command: /home/biocbuild/bbs-3.23-bioc/R/bin/R CMD build --keep-empty-dirs --no-resave-data packFinder StartedAt: 2025-11-13 19:08:50 -0500 (Thu, 13 Nov 2025) EndedAt: 2025-11-13 19:09:01 -0500 (Thu, 13 Nov 2025) EllapsedTime: 11.0 seconds RetCode: 0 Status: OK PackageFile: packFinder_1.23.0.tar.gz PackageFileSize: 1.149 MiB