Package: packFinder Version: 1.23.0 Command: /Library/Frameworks/R.framework/Resources/bin/R CMD INSTALL packFinder StartedAt: 2025-11-13 15:10:28 -0500 (Thu, 13 Nov 2025) EndedAt: 2025-11-13 15:10:29 -0500 (Thu, 13 Nov 2025) EllapsedTime: 1.0 seconds RetCode: 0 Status: OK