Package: packFinder Version: 1.23.0 Command: /Library/Frameworks/R.framework/Resources/bin/R CMD build --keep-empty-dirs --no-resave-data packFinder StartedAt: 2025-11-13 17:16:32 -0500 (Thu, 13 Nov 2025) EndedAt: 2025-11-13 17:16:38 -0500 (Thu, 13 Nov 2025) EllapsedTime: 6.1 seconds RetCode: 0 Status: OK PackageFile: packFinder_1.23.0.tar.gz PackageFileSize: 1.133 MiB