Package: packFinder Version: 1.23.0 Maintainer: Jack Gisby MaintainerEmail: jackgisby at gmail.com git_url: https://git.bioconductor.org/packages/packFinder git_branch: devel git_last_commit: a517955 git_last_commit_date: 2025-10-29 10:56:19 -0500 (Wed, 29 Oct 2025)