Package: pRolocGUI Version: 2.21.0 Command: /home/biocbuild/bbs-3.23-bioc/R/bin/R CMD build --keep-empty-dirs --no-resave-data pRolocGUI StartedAt: 2025-11-13 19:22:12 -0500 (Thu, 13 Nov 2025) EndedAt: 2025-11-13 19:23:24 -0500 (Thu, 13 Nov 2025) EllapsedTime: 72.1 seconds RetCode: 0 Status: OK PackageFile: pRolocGUI_2.21.0.tar.gz PackageFileSize: 2.991 MiB