Package: pRolocGUI Version: 2.21.0 Command: /Library/Frameworks/R.framework/Resources/bin/R CMD INSTALL pRolocGUI StartedAt: 2025-11-13 15:23:27 -0500 (Thu, 13 Nov 2025) EndedAt: 2025-11-13 15:23:48 -0500 (Thu, 13 Nov 2025) EllapsedTime: 21.3 seconds RetCode: 0 Status: OK