Package: pRolocGUI Version: 2.21.0 Command: /Library/Frameworks/R.framework/Resources/bin/R CMD build --keep-empty-dirs --no-resave-data pRolocGUI StartedAt: 2025-11-13 17:23:00 -0500 (Thu, 13 Nov 2025) EndedAt: 2025-11-13 17:23:31 -0500 (Thu, 13 Nov 2025) EllapsedTime: 31.4 seconds RetCode: 0 Status: OK PackageFile: pRolocGUI_2.21.0.tar.gz PackageFileSize: 2.992 MiB