############################################################################## ############################################################################## ### ### Running command: ### ### /Library/Frameworks/R.framework/Resources/bin/R CMD build --keep-empty-dirs --no-resave-data pRolocGUI ### ############################################################################## ############################################################################## * checking for file ‘pRolocGUI/DESCRIPTION’ ... OK * preparing ‘pRolocGUI’: * checking DESCRIPTION meta-information ... OK * installing the package (it is needed to build vignettes) ----------------------------------- ERROR: dependencies ‘pRoloc’, ‘MSnbase’ are not available for package ‘pRolocGUI’ Perhaps try a variation of: install.packages(c('pRoloc', 'MSnbase')) * removing ‘/private/var/folders/r0/l4fjk6cj5xj0j3brt4bplpl40000gt/T/Rtmp2J89yt/Rinst9cdf3ac987c8/pRolocGUI’ ----------------------------------- ERROR: package installation failed