Package: pRolocGUI Version: 2.21.0 Maintainer: Lisa Breckels MaintainerEmail: lms79 at cam.ac.uk git_url: https://git.bioconductor.org/packages/pRolocGUI git_branch: devel git_last_commit: a013160 git_last_commit_date: 2025-10-29 10:20:16 -0500 (Wed, 29 Oct 2025)