Package: pRoloc Version: 1.51.0 Command: /home/biocbuild/bbs-3.23-bioc/R/bin/R CMD INSTALL pRoloc StartedAt: 2025-11-13 15:37:05 -0500 (Thu, 13 Nov 2025) EndedAt: 2025-11-13 15:38:27 -0500 (Thu, 13 Nov 2025) EllapsedTime: 82.6 seconds RetCode: 0 Status: OK