Package: pRoloc Version: 1.51.0 Command: /Library/Frameworks/R.framework/Resources/bin/R CMD INSTALL pRoloc StartedAt: 2025-11-13 15:22:57 -0500 (Thu, 13 Nov 2025) EndedAt: 2025-11-13 15:23:26 -0500 (Thu, 13 Nov 2025) EllapsedTime: 29.0 seconds RetCode: 0 Status: OK