Package: pRoloc Version: 1.51.0 Command: /Library/Frameworks/R.framework/Resources/bin/R CMD build --keep-empty-dirs --no-resave-data pRoloc StartedAt: 2025-11-13 17:22:59 -0500 (Thu, 13 Nov 2025) EndedAt: 2025-11-13 17:24:25 -0500 (Thu, 13 Nov 2025) EllapsedTime: 86.0 seconds RetCode: 0 Status: OK PackageFile: pRoloc_1.51.0.tar.gz PackageFileSize: 10.95 MiB