############################################################################## ############################################################################## ### ### Running command: ### ### /Library/Frameworks/R.framework/Resources/bin/R CMD build --keep-empty-dirs --no-resave-data pRoloc ### ############################################################################## ############################################################################## * checking for file ‘pRoloc/DESCRIPTION’ ... OK * preparing ‘pRoloc’: * checking DESCRIPTION meta-information ... OK * cleaning src * installing the package (it is needed to build vignettes) ----------------------------------- ERROR: dependency ‘MSnbase’ is not available for package ‘pRoloc’ Perhaps try a variation of: install.packages('MSnbase') * removing ‘/private/var/folders/r0/l4fjk6cj5xj0j3brt4bplpl40000gt/T/RtmpM6kwoJ/Rinst9cdc1211fadd/pRoloc’ ----------------------------------- ERROR: package installation failed