Package: pRoloc Version: 1.51.0 Maintainer: Lisa Breckels MaintainerEmail: lms79 at cam.ac.uk git_url: https://git.bioconductor.org/packages/pRoloc git_branch: devel git_last_commit: 26ca27b git_last_commit_date: 2025-10-29 10:12:55 -0500 (Wed, 29 Oct 2025)