Package: optimalFlow Version: 1.23.0 Command: /home/biocbuild/bbs-3.23-bioc/R/bin/R CMD INSTALL optimalFlow StartedAt: 2025-11-11 15:17:48 -0500 (Tue, 11 Nov 2025) EndedAt: 2025-11-11 15:18:05 -0500 (Tue, 11 Nov 2025) EllapsedTime: 17.2 seconds RetCode: 0 Status: OK