Package: optimalFlow Version: 1.23.0 Command: /home/biocbuild/bbs-3.23-bioc/R/bin/R CMD build --keep-empty-dirs --no-resave-data optimalFlow StartedAt: 2025-11-11 19:10:07 -0500 (Tue, 11 Nov 2025) EndedAt: 2025-11-11 19:16:22 -0500 (Tue, 11 Nov 2025) EllapsedTime: 375.4 seconds RetCode: 0 Status: OK PackageFile: optimalFlow_1.23.0.tar.gz PackageFileSize: 1.317 MiB