Package: optimalFlow Version: 1.23.0 Command: /Library/Frameworks/R.framework/Resources/bin/R CMD INSTALL optimalFlow StartedAt: 2025-11-12 15:22:20 -0500 (Wed, 12 Nov 2025) EndedAt: 2025-11-12 15:22:21 -0500 (Wed, 12 Nov 2025) EllapsedTime: 1.4 seconds RetCode: 1 Status: ERROR