############################################################################## ############################################################################## ### ### Running command: ### ### /Library/Frameworks/R.framework/Resources/bin/R CMD build --keep-empty-dirs --no-resave-data optimalFlow ### ############################################################################## ############################################################################## * checking for file ‘optimalFlow/DESCRIPTION’ ... OK * preparing ‘optimalFlow’: * checking DESCRIPTION meta-information ... OK * installing the package (it is needed to build vignettes) ----------------------------------- ERROR: dependency ‘flowMeans’ is not available for package ‘optimalFlow’ Perhaps try a variation of: install.packages('flowMeans') * removing ‘/private/var/folders/r0/l4fjk6cj5xj0j3brt4bplpl40000gt/T/RtmpBGJHfu/Rinst16b531c8225d4/optimalFlow’ ----------------------------------- ERROR: package installation failed