Package: optimalFlow Version: 1.23.0 Maintainer: Hristo Inouzhe MaintainerEmail: hristo.inouzhe at gmail.com git_url: https://git.bioconductor.org/packages/optimalFlow git_branch: devel git_last_commit: 09d158c git_last_commit_date: 2025-10-29 10:59:26 -0500 (Wed, 29 Oct 2025)