Package: oposSOM Version: 2.29.0 Command: /home/biocbuild/bbs-3.23-bioc/R/bin/R CMD INSTALL oposSOM StartedAt: 2025-11-16 15:27:55 -0500 (Sun, 16 Nov 2025) EndedAt: 2025-11-16 15:28:28 -0500 (Sun, 16 Nov 2025) EllapsedTime: 32.7 seconds RetCode: 0 Status: OK