Package: oposSOM Version: 2.29.0 Command: /home/biocbuild/bbs-3.23-bioc/R/bin/R CMD build --keep-empty-dirs --no-resave-data oposSOM StartedAt: 2025-11-16 19:10:14 -0500 (Sun, 16 Nov 2025) EndedAt: 2025-11-16 19:10:56 -0500 (Sun, 16 Nov 2025) EllapsedTime: 42.0 seconds RetCode: 0 Status: OK PackageFile: oposSOM_2.29.0.tar.gz PackageFileSize: 13.35 MiB