Package: oposSOM Version: 2.29.0 Command: /Library/Frameworks/R.framework/Resources/bin/R CMD build --keep-empty-dirs --no-resave-data oposSOM StartedAt: 2025-11-13 17:14:52 -0500 (Thu, 13 Nov 2025) EndedAt: 2025-11-13 17:15:10 -0500 (Thu, 13 Nov 2025) EllapsedTime: 18.2 seconds RetCode: 0 Status: OK PackageFile: oposSOM_2.29.0.tar.gz PackageFileSize: 13.35 MiB