Package: openPrimeR Version: 1.33.0 Maintainer: Matthias Döring MaintainerEmail: matthias-doering at gmx.de git_url: https://git.bioconductor.org/packages/openPrimeR git_branch: devel git_last_commit: 9ac7cf4 git_last_commit_date: 2025-10-29 10:40:47 -0500 (Wed, 29 Oct 2025)