Package: openCyto Version: 2.23.0 Command: /home/biocbuild/bbs-3.23-bioc/R/bin/R CMD build --keep-empty-dirs --no-resave-data openCyto StartedAt: 2025-11-14 19:05:12 -0500 (Fri, 14 Nov 2025) EndedAt: 2025-11-14 19:06:27 -0500 (Fri, 14 Nov 2025) EllapsedTime: 74.1 seconds RetCode: 0 Status: OK PackageFile: openCyto_2.23.0.tar.gz PackageFileSize: 1.771 MiB