Package: openCyto Version: 2.23.0 Command: rm -rf openCyto.buildbin-libdir && mkdir openCyto.buildbin-libdir && /Users/biocbuild/BBS/utils/build-universal.sh openCyto_2.23.0.tar.gz /Library/Frameworks/R.framework/Resources/bin/R openCyto.buildbin-libdir StartedAt: 2025-11-14 23:44:27 -0500 (Fri, 14 Nov 2025) EndedAt: 2025-11-14 23:44:42 -0500 (Fri, 14 Nov 2025) EllapsedTime: 14.3 seconds RetCode: 0 Status: OK PackageFile: openCyto_2.23.0.tgz PackageFileSize: 2.731 MiB