Package: openCyto Version: 2.23.0 Maintainer: Mike Jiang MaintainerEmail: mike at ozette.com git_url: https://git.bioconductor.org/packages/openCyto git_branch: devel git_last_commit: 11bf474 git_last_commit_date: 2025-10-29 10:16:53 -0500 (Wed, 29 Oct 2025)