Package: ontoProc Version: 2.5.0 Command: /home/biocbuild/bbs-3.23-bioc/R/bin/R CMD build --keep-empty-dirs --no-resave-data ontoProc StartedAt: 2025-11-13 19:04:54 -0500 (Thu, 13 Nov 2025) EndedAt: 2025-11-13 19:12:31 -0500 (Thu, 13 Nov 2025) EllapsedTime: 456.8 seconds RetCode: 0 Status: OK PackageFile: ontoProc_2.5.0.tar.gz PackageFileSize: 13.76 MiB