Package: ontoProc Version: 2.5.0 Command: /Library/Frameworks/R.framework/Resources/bin/R CMD INSTALL ontoProc StartedAt: 2025-11-13 15:20:45 -0500 (Thu, 13 Nov 2025) EndedAt: 2025-11-13 15:20:58 -0500 (Thu, 13 Nov 2025) EllapsedTime: 13.8 seconds RetCode: 0 Status: OK