Package: ontoProc Version: 2.5.0 Command: /Library/Frameworks/R.framework/Resources/bin/R CMD build --keep-empty-dirs --no-resave-data ontoProc StartedAt: 2025-11-12 16:51:58 -0500 (Wed, 12 Nov 2025) EndedAt: 2025-11-12 16:54:18 -0500 (Wed, 12 Nov 2025) EllapsedTime: 139.6 seconds RetCode: 1 Status: ERROR PackageFile: None PackageFileSize: NA