Package: ontoProc Version: 2.5.0 Maintainer: Vincent Carey MaintainerEmail: stvjc at channing.harvard.edu git_url: https://git.bioconductor.org/packages/ontoProc git_branch: devel git_last_commit: a09f239 git_last_commit_date: 2025-10-29 19:20:08 -0500 (Wed, 29 Oct 2025)