Package: onlineFDR Version: 2.19.0 Command: /home/biocbuild/bbs-3.23-bioc/R/bin/R CMD INSTALL onlineFDR StartedAt: 2025-11-13 15:02:38 -0500 (Thu, 13 Nov 2025) EndedAt: 2025-11-13 15:03:38 -0500 (Thu, 13 Nov 2025) EllapsedTime: 60.2 seconds RetCode: 0 Status: OK