Package: onlineFDR Version: 2.19.0 Command: /Library/Frameworks/R.framework/Resources/bin/R CMD build --keep-empty-dirs --no-resave-data onlineFDR StartedAt: 2025-11-13 17:14:35 -0500 (Thu, 13 Nov 2025) EndedAt: 2025-11-13 17:14:49 -0500 (Thu, 13 Nov 2025) EllapsedTime: 14.2 seconds RetCode: 1 Status: ERROR PackageFile: None PackageFileSize: NA