Package: onlineFDR Version: 2.19.0 Maintainer: David S. Robertson MaintainerEmail: david.robertson at mrc-bsu.cam.ac.uk git_url: https://git.bioconductor.org/packages/onlineFDR git_branch: devel git_last_commit: b353ec7 git_last_commit_date: 2025-10-29 10:45:52 -0500 (Wed, 29 Oct 2025)