Package: oncoscanR Version: 1.13.0 Command: /home/biocbuild/bbs-3.23-bioc/R/bin/R CMD build --keep-empty-dirs --no-resave-data oncoscanR StartedAt: 2025-11-19 19:08:41 -0500 (Wed, 19 Nov 2025) EndedAt: 2025-11-19 19:11:12 -0500 (Wed, 19 Nov 2025) EllapsedTime: 151.2 seconds RetCode: 0 Status: OK PackageFile: oncoscanR_1.13.0.tar.gz PackageFileSize: 990.2 KiB