Package: oncoscanR Version: 1.13.0 Command: /Library/Frameworks/R.framework/Resources/bin/R CMD INSTALL oncoscanR StartedAt: 2025-11-14 15:11:15 -0500 (Fri, 14 Nov 2025) EndedAt: 2025-11-14 15:11:19 -0500 (Fri, 14 Nov 2025) EllapsedTime: 4.2 seconds RetCode: 0 Status: OK