Package: oncomix Version: 1.33.0 Command: /home/biocbuild/bbs-3.23-bioc/R/bin/R CMD build --keep-empty-dirs --no-resave-data oncomix StartedAt: 2025-11-13 19:04:12 -0500 (Thu, 13 Nov 2025) EndedAt: 2025-11-13 19:04:54 -0500 (Thu, 13 Nov 2025) EllapsedTime: 42.0 seconds RetCode: 0 Status: OK PackageFile: oncomix_1.33.0.tar.gz PackageFileSize: 2.396 MiB