Package: oncomix Version: 1.33.0 Command: rm -rf oncomix.buildbin-libdir && mkdir oncomix.buildbin-libdir && /Users/biocbuild/BBS/utils/build-universal.sh oncomix_1.33.0.tar.gz /Library/Frameworks/R.framework/Resources/bin/R oncomix.buildbin-libdir StartedAt: 2025-11-12 21:05:18 -0500 (Wed, 12 Nov 2025) EndedAt: 2025-11-12 21:05:30 -0500 (Wed, 12 Nov 2025) EllapsedTime: 11.3 seconds RetCode: 0 Status: OK PackageFile: oncomix_1.33.0.tgz PackageFileSize: 2.467 MiB