Package: oncomix Version: 1.33.0 Maintainer: Daniel Pique MaintainerEmail: daniel.pique at med.einstein.yu.edu git_url: https://git.bioconductor.org/packages/oncomix git_branch: devel git_last_commit: cca44aa git_last_commit_date: 2025-10-29 10:41:55 -0500 (Wed, 29 Oct 2025)