Package: ompBAM Version: 1.15.0 Command: /home/biocbuild/bbs-3.23-bioc/R/bin/R CMD INSTALL ompBAM StartedAt: 2025-11-13 15:02:23 -0500 (Thu, 13 Nov 2025) EndedAt: 2025-11-13 15:02:28 -0500 (Thu, 13 Nov 2025) EllapsedTime: 4.5 seconds RetCode: 0 Status: OK