Package: ompBAM Version: 1.15.0 Command: /home/biocbuild/bbs-3.23-bioc/R/bin/R CMD check --install=check:ompBAM.install-out.txt --library=/home/biocbuild/bbs-3.23-bioc/R/site-library --timings ompBAM_1.15.0.tar.gz StartedAt: 2025-11-22 02:12:54 -0500 (Sat, 22 Nov 2025) EndedAt: 2025-11-22 02:13:39 -0500 (Sat, 22 Nov 2025) EllapsedTime: 45.1 seconds RetCode: 0 Status: OK CheckDir: ompBAM.Rcheck Warnings: 0