Package: ompBAM Version: 1.15.0 Command: /home/biocbuild/bbs-3.23-bioc/R/bin/R CMD build --keep-empty-dirs --no-resave-data ompBAM StartedAt: 2025-11-13 19:04:00 -0500 (Thu, 13 Nov 2025) EndedAt: 2025-11-13 19:04:13 -0500 (Thu, 13 Nov 2025) EllapsedTime: 13.0 seconds RetCode: 0 Status: OK PackageFile: ompBAM_1.15.0.tar.gz PackageFileSize: 3.142 MiB