Package: ompBAM Version: 1.15.0 Command: /Library/Frameworks/R.framework/Resources/bin/R CMD INSTALL ompBAM StartedAt: 2025-11-13 15:01:29 -0500 (Thu, 13 Nov 2025) EndedAt: 2025-11-13 15:01:32 -0500 (Thu, 13 Nov 2025) EllapsedTime: 2.6 seconds RetCode: 0 Status: OK