Package: ompBAM Version: 1.15.0 Command: /Library/Frameworks/R.framework/Resources/bin/R CMD build --keep-empty-dirs --no-resave-data ompBAM StartedAt: 2025-11-13 17:14:26 -0500 (Thu, 13 Nov 2025) EndedAt: 2025-11-13 17:14:35 -0500 (Thu, 13 Nov 2025) EllapsedTime: 9.1 seconds RetCode: 0 Status: OK PackageFile: ompBAM_1.15.0.tar.gz PackageFileSize: 3.143 MiB