Package: omicsViewer Version: 1.15.0 Command: /home/biocbuild/bbs-3.23-bioc/R/bin/R CMD build --keep-empty-dirs --no-resave-data omicsViewer StartedAt: 2025-11-13 19:03:08 -0500 (Thu, 13 Nov 2025) EndedAt: 2025-11-13 19:04:00 -0500 (Thu, 13 Nov 2025) EllapsedTime: 52.0 seconds RetCode: 0 Status: OK PackageFile: omicsViewer_1.15.0.tar.gz PackageFileSize: 4.332 MiB