Package: omicsViewer Version: 1.15.0 Command: /Library/Frameworks/R.framework/Resources/bin/R CMD INSTALL omicsViewer StartedAt: 2025-11-12 15:28:06 -0500 (Wed, 12 Nov 2025) EndedAt: 2025-11-12 15:28:20 -0500 (Wed, 12 Nov 2025) EllapsedTime: 13.9 seconds RetCode: 0 Status: OK