Package: omicsViewer Version: 1.15.0 Command: /Library/Frameworks/R.framework/Resources/bin/R CMD build --keep-empty-dirs --no-resave-data omicsViewer StartedAt: 2025-11-12 16:51:32 -0500 (Wed, 12 Nov 2025) EndedAt: 2025-11-12 16:51:55 -0500 (Wed, 12 Nov 2025) EllapsedTime: 23.3 seconds RetCode: 0 Status: OK PackageFile: omicsViewer_1.15.0.tar.gz PackageFileSize: 4.332 MiB